BEGIN:VCALENDAR
VERSION:2.0
PRODID:-//Community Foundation of the South Okanagan Similkameen - ECPv6.15.19//NONSGML v1.0//EN
CALSCALE:GREGORIAN
METHOD:PUBLISH
X-WR-CALNAME:Community Foundation of the South Okanagan Similkameen
X-ORIGINAL-URL:https://www.cfso.net
X-WR-CALDESC:Events for Community Foundation of the South Okanagan Similkameen
REFRESH-INTERVAL;VALUE=DURATION:PT1H
X-Robots-Tag:noindex
X-PUBLISHED-TTL:PT1H
BEGIN:VTIMEZONE
TZID:America/Toronto
BEGIN:DAYLIGHT
TZOFFSETFROM:-0500
TZOFFSETTO:-0400
TZNAME:EDT
DTSTART:20240310T070000
END:DAYLIGHT
BEGIN:STANDARD
TZOFFSETFROM:-0400
TZOFFSETTO:-0500
TZNAME:EST
DTSTART:20241103T060000
END:STANDARD
BEGIN:DAYLIGHT
TZOFFSETFROM:-0500
TZOFFSETTO:-0400
TZNAME:EDT
DTSTART:20250309T070000
END:DAYLIGHT
BEGIN:STANDARD
TZOFFSETFROM:-0400
TZOFFSETTO:-0500
TZNAME:EST
DTSTART:20251102T060000
END:STANDARD
BEGIN:DAYLIGHT
TZOFFSETFROM:-0500
TZOFFSETTO:-0400
TZNAME:EDT
DTSTART:20260308T070000
END:DAYLIGHT
BEGIN:STANDARD
TZOFFSETFROM:-0400
TZOFFSETTO:-0500
TZNAME:EST
DTSTART:20261101T060000
END:STANDARD
END:VTIMEZONE
BEGIN:VTIMEZONE
TZID:America/Vancouver
BEGIN:DAYLIGHT
TZOFFSETFROM:-0800
TZOFFSETTO:-0700
TZNAME:PDT
DTSTART:20240310T100000
END:DAYLIGHT
BEGIN:STANDARD
TZOFFSETFROM:-0700
TZOFFSETTO:-0800
TZNAME:PST
DTSTART:20241103T090000
END:STANDARD
BEGIN:DAYLIGHT
TZOFFSETFROM:-0800
TZOFFSETTO:-0700
TZNAME:PDT
DTSTART:20250309T100000
END:DAYLIGHT
BEGIN:STANDARD
TZOFFSETFROM:-0700
TZOFFSETTO:-0800
TZNAME:PST
DTSTART:20251102T090000
END:STANDARD
BEGIN:DAYLIGHT
TZOFFSETFROM:-0800
TZOFFSETTO:-0700
TZNAME:PDT
DTSTART:20260308T100000
END:DAYLIGHT
BEGIN:STANDARD
TZOFFSETFROM:-0700
TZOFFSETTO:-0800
TZNAME:PST
DTSTART:20261101T090000
END:STANDARD
END:VTIMEZONE
BEGIN:VEVENT
DTSTART;TZID=America/Toronto:20250303T080000
DTEND;TZID=America/Toronto:20250418T170000
DTSTAMP:20260420T101636
CREATED:20250226T214824Z
LAST-MODIFIED:20250226T214935Z
UID:12058-1740988800-1744995600@www.cfso.net
SUMMARY:Applications Open: Neighbourhood Small Grants
DESCRIPTION:🌟 Neighbourhood Small Grants Applications Now Open! 🌟 \nDo you have a great idea to bring your neighbours together? Neighbourhood Small Grants provides funding of up to $500 to support community-led projects that spark connection\, creativity\, and inclusivity! \nWhether it’s a block party\, a community garden\, a cultural celebration\, or a skill-sharing workshop—your ideas can make a difference! \n📍 Who Can Apply? Anyone with a great idea to strengthen their neighbourhood!💡 Funding Available: Up to $500 per project \nApply today and help create a healthier\, more vibrant\, and connected community! Application closes April 18\, 2025. \n🔗 Learn more here! 📩 Have questions? Contact kimenglish@cfso.net
URL:https://www.cfso.net/event/opening-neighbourhood-small-grants/
CATEGORIES:Neighbourhood Small Grants
ATTACH;FMTTYPE=image/png:https://www.cfso.net/wp-content/uploads/2025/02/nsg-southokanagansimilkameen-12-logo-full-color-cmyk-e1739222584463.png
ORGANIZER;CN="Kim English":MAILTO:kimenglish@cfso.net
END:VEVENT
BEGIN:VEVENT
DTSTART;TZID=America/Toronto:20250303T080000
DTEND;TZID=America/Toronto:20250418T170000
DTSTAMP:20260420T101636
CREATED:20250226T214824Z
LAST-MODIFIED:20250226T214824Z
UID:13716-1740988800-1744995600@www.cfso.net
SUMMARY:Applications Open: Neighbourhood Small Grants
DESCRIPTION:🌟 Neighbourhood Small Grants Applications Now Open! 🌟 \nDo you have a great idea to bring your neighbours together? Neighbourhood Small Grants provides funding of up to $500 to support community-led projects that spark connection\, creativity\, and inclusivity! \nWhether it’s a block party\, a community garden\, a cultural celebration\, or a skill-sharing workshop—your ideas can make a difference! \n📍 Who Can Apply? Anyone with a great idea to strengthen their neighbourhood!💡 Funding Available: Up to $500 per project \nApply today and help create a healthier\, more vibrant\, and connected community! Application closes April 18\, 2025. \n🔗 Learn more here! 📩 Have questions? Contact kimenglish@cfso.net
URL:https://www.cfso.net/event/opening-neighbourhood-small-grants-2/
CATEGORIES:Neighbourhood Small Grants
ATTACH;FMTTYPE=image/png:https://www.cfso.net/wp-content/uploads/2025/02/nsg-southokanagansimilkameen-12-logo-full-color-cmyk-e1739222584463.png
ORGANIZER;CN="Kim English":MAILTO:kimenglish@cfso.net
END:VEVENT
BEGIN:VEVENT
DTSTART;TZID=America/Vancouver:20250312T173000
DTEND;TZID=America/Vancouver:20250312T181500
DTSTAMP:20260420T101636
CREATED:20250226T205404Z
LAST-MODIFIED:20250226T220950Z
UID:12046-1741800600-1741803300@www.cfso.net
SUMMARY:Virtual: Neighbourhood Small Grants Info Session
DESCRIPTION:ONLINE \nJoin us for a free Neighbourhood Small Grants Info Session! Learn how to apply for funding to bring your community-building idea to life\, ask questions\, and get inspired by past projects. Whether you’re new to NSG or looking for tips to strengthen your application\, this session is a great opportunity to connect and explore possibilities. Everyone is welcome! \nRSVP your spot and to receive the link: kimenglish@cfso.net 
URL:https://www.cfso.net/event/virtual-neighbourhood-small-grant-info-session/
LOCATION:online event
CATEGORIES:Neighbourhood Small Grants
ATTACH;FMTTYPE=image/jpeg:https://www.cfso.net/wp-content/uploads/2025/02/Online-NSG-SOS-e1740603191429.jpg
ORGANIZER;CN="Kim English":MAILTO:kimenglish@cfso.net
END:VEVENT
BEGIN:VEVENT
DTSTART;TZID=America/Vancouver:20250312T173000
DTEND;TZID=America/Vancouver:20250312T181500
DTSTAMP:20260420T101636
CREATED:20250226T205404Z
LAST-MODIFIED:20250226T205404Z
UID:13711-1741800600-1741803300@www.cfso.net
SUMMARY:Virtual: Neighbourhood Small Grants Info Session
DESCRIPTION:ONLINE \nJoin us for a free Neighbourhood Small Grants Info Session! Learn how to apply for funding to bring your community-building idea to life\, ask questions\, and get inspired by past projects. Whether you’re new to NSG or looking for tips to strengthen your application\, this session is a great opportunity to connect and explore possibilities. Everyone is welcome! \nRSVP your spot and to receive the link: kimenglish@cfso.net 
URL:https://www.cfso.net/event/virtual-neighbourhood-small-grant-info-session-2/
LOCATION:online event
CATEGORIES:Neighbourhood Small Grants
ATTACH;FMTTYPE=image/jpeg:https://www.cfso.net/wp-content/uploads/2025/02/Online-NSG-SOS-e1740603191429.jpg
ORGANIZER;CN="Kim English":MAILTO:kimenglish@cfso.net
END:VEVENT
END:VCALENDAR