BEGIN:VCALENDAR
VERSION:2.0
PRODID:-//Community Foundation of the South Okanagan Similkameen - ECPv6.15.19//NONSGML v1.0//EN
CALSCALE:GREGORIAN
METHOD:PUBLISH
X-WR-CALNAME:Community Foundation of the South Okanagan Similkameen
X-ORIGINAL-URL:https://www.cfso.net
X-WR-CALDESC:Events for Community Foundation of the South Okanagan Similkameen
REFRESH-INTERVAL;VALUE=DURATION:PT1H
X-Robots-Tag:noindex
X-PUBLISHED-TTL:PT1H
BEGIN:VTIMEZONE
TZID:America/Toronto
BEGIN:DAYLIGHT
TZOFFSETFROM:-0500
TZOFFSETTO:-0400
TZNAME:EDT
DTSTART:20250309T070000
END:DAYLIGHT
BEGIN:STANDARD
TZOFFSETFROM:-0400
TZOFFSETTO:-0500
TZNAME:EST
DTSTART:20251102T060000
END:STANDARD
BEGIN:DAYLIGHT
TZOFFSETFROM:-0500
TZOFFSETTO:-0400
TZNAME:EDT
DTSTART:20260308T070000
END:DAYLIGHT
BEGIN:STANDARD
TZOFFSETFROM:-0400
TZOFFSETTO:-0500
TZNAME:EST
DTSTART:20261101T060000
END:STANDARD
BEGIN:DAYLIGHT
TZOFFSETFROM:-0500
TZOFFSETTO:-0400
TZNAME:EDT
DTSTART:20270314T070000
END:DAYLIGHT
BEGIN:STANDARD
TZOFFSETFROM:-0400
TZOFFSETTO:-0500
TZNAME:EST
DTSTART:20271107T060000
END:STANDARD
END:VTIMEZONE
BEGIN:VEVENT
DTSTART;TZID=America/Toronto:20260428T153000
DTEND;TZID=America/Toronto:20260428T163000
DTSTAMP:20260421T083640
CREATED:20260409T210120Z
LAST-MODIFIED:20260410T224024Z
UID:13912-1777390200-1777393800@www.cfso.net
SUMMARY:Trish & Phil Medical Bursary - Virtual Info Session 2026
DESCRIPTION:  \nInterested in becoming a doctor? Join us for a virtual information session where you’ll hear firsthand from a local physician about their journey into medicine—what it took\, what they learned\, and what they wish they’d known. \nYou’ll also learn about an incredible opportunity: the Trish and Phil Medical Bursary. This multi-year financial support program can cover up to 50% of your undergraduate tuition and 100% of your medical school tuition for students who plan on returning to practice in the South Okanagan Similkameen region. \nStudents must register to apply for the bursary\, and all registrants will receive a link to the session recording—even if you can’t attend live. \nDon’t miss your chance to take the first step toward a future in medicine! \nOnce registered\, a MS teams link to join the virtual session will be sent out by email.
URL:https://www.cfso.net/event/trish-phil-medical-bursary-virtual-info-session-2026/
ATTACH;FMTTYPE=image/png:https://www.cfso.net/wp-content/uploads/2026/04/FINAL-DRAFT-Virtual-Info-Session-April-28.png
END:VEVENT
END:VCALENDAR