BEGIN:VCALENDAR
VERSION:2.0
PRODID:-//Community Foundation of the South Okanagan Similkameen - ECPv6.15.20//NONSGML v1.0//EN
CALSCALE:GREGORIAN
METHOD:PUBLISH
X-WR-CALNAME:Community Foundation of the South Okanagan Similkameen
X-ORIGINAL-URL:https://www.cfso.net
X-WR-CALDESC:Events for Community Foundation of the South Okanagan Similkameen
REFRESH-INTERVAL;VALUE=DURATION:PT1H
X-Robots-Tag:noindex
X-PUBLISHED-TTL:PT1H
BEGIN:VTIMEZONE
TZID:America/Toronto
BEGIN:DAYLIGHT
TZOFFSETFROM:-0500
TZOFFSETTO:-0400
TZNAME:EDT
DTSTART:20250309T070000
END:DAYLIGHT
BEGIN:STANDARD
TZOFFSETFROM:-0400
TZOFFSETTO:-0500
TZNAME:EST
DTSTART:20251102T060000
END:STANDARD
BEGIN:DAYLIGHT
TZOFFSETFROM:-0500
TZOFFSETTO:-0400
TZNAME:EDT
DTSTART:20260308T070000
END:DAYLIGHT
BEGIN:STANDARD
TZOFFSETFROM:-0400
TZOFFSETTO:-0500
TZNAME:EST
DTSTART:20261101T060000
END:STANDARD
BEGIN:DAYLIGHT
TZOFFSETFROM:-0500
TZOFFSETTO:-0400
TZNAME:EDT
DTSTART:20270314T070000
END:DAYLIGHT
BEGIN:STANDARD
TZOFFSETFROM:-0400
TZOFFSETTO:-0500
TZNAME:EST
DTSTART:20271107T060000
END:STANDARD
END:VTIMEZONE
BEGIN:VEVENT
DTSTART;TZID=America/Toronto:20260617T170000
DTEND;TZID=America/Toronto:20260617T190000
DTSTAMP:20260425T091829
CREATED:20260304T212554Z
LAST-MODIFIED:20260420T235628Z
UID:13523-1781715600-1781722800@www.cfso.net
SUMMARY:100 Women Who Care - June 17th - Summerland Heritage Cidery
DESCRIPTION:We’re excited to welcome you back for our first 100 Women Who Care event of 2026 – an evening of shared purpose\, connection\, and collective giving. \nDate: Wednesday\, June 17th\nTime: 5:00 PM – 7:00 PM\nVenue: Summerland Heritage Cidery \nWe’ll be serving light bites to keep the energy flowing\, and drinks will be available for purchase. \n The theme for this quarter is still to be determined!\nDo you have field of interest that you would like to learn more about? Send your suggestions to 100women@cfso.net. \nIf you need to make your one-time commitment fee and/or your quarterly donations you can do that here. \nIf you have any questions please email 100women@cfso.net. \nPlease note member RSVPs are open now and guest spots will open closer to the event date based on capacity.
URL:https://www.cfso.net/event/100-women-who-care-june-17-summerlandcidery/
LOCATION:Heritage Cidery\, 3113 Johnson St\, Summerland\, BC\, V0H 1Z4\, Canada
CATEGORIES:100 Women Who Care
ATTACH;FMTTYPE=image/png:https://www.cfso.net/wp-content/uploads/2026/03/2026-100-Women-June-event-2.png
ORGANIZER;CN="CFSOS":MAILTO:info@cfso.net
END:VEVENT
END:VCALENDAR