BEGIN:VCALENDAR
VERSION:2.0
PRODID:-//Community Foundation of the South Okanagan Similkameen - ECPv6.15.19//NONSGML v1.0//EN
CALSCALE:GREGORIAN
METHOD:PUBLISH
X-ORIGINAL-URL:https://www.cfso.net
X-WR-CALDESC:Events for Community Foundation of the South Okanagan Similkameen
REFRESH-INTERVAL;VALUE=DURATION:PT1H
X-Robots-Tag:noindex
X-PUBLISHED-TTL:PT1H
BEGIN:VTIMEZONE
TZID:America/Toronto
BEGIN:DAYLIGHT
TZOFFSETFROM:-0500
TZOFFSETTO:-0400
TZNAME:EDT
DTSTART:20250309T070000
END:DAYLIGHT
BEGIN:STANDARD
TZOFFSETFROM:-0400
TZOFFSETTO:-0500
TZNAME:EST
DTSTART:20251102T060000
END:STANDARD
BEGIN:DAYLIGHT
TZOFFSETFROM:-0500
TZOFFSETTO:-0400
TZNAME:EDT
DTSTART:20260308T070000
END:DAYLIGHT
BEGIN:STANDARD
TZOFFSETFROM:-0400
TZOFFSETTO:-0500
TZNAME:EST
DTSTART:20261101T060000
END:STANDARD
BEGIN:DAYLIGHT
TZOFFSETFROM:-0500
TZOFFSETTO:-0400
TZNAME:EDT
DTSTART:20270314T070000
END:DAYLIGHT
BEGIN:STANDARD
TZOFFSETFROM:-0400
TZOFFSETTO:-0500
TZNAME:EST
DTSTART:20271107T060000
END:STANDARD
END:VTIMEZONE
BEGIN:VEVENT
DTSTART;TZID=America/Toronto:20261118T170000
DTEND;TZID=America/Toronto:20261118T190000
DTSTAMP:20260419T141821
CREATED:20260304T214352Z
LAST-MODIFIED:20260408T173741Z
UID:13521-1795021200-1795028400@www.cfso.net
SUMMARY:100 Women Who Care - Nov 26 - OROLO Restaurant + Cocktail Bar
DESCRIPTION:We’re excited to welcome you back for our first 100 Women Who Care event of 2026 – an evening of shared purpose\, connection\, and collective giving. \nDate: Wednesday\, Nov 18th\nTime: 5:00 PM – 7:00 PM\nVenue: OROLO Restaurant + Cocktail Bar \nWe’ll be serving light bites to keep the energy flowing\, and drinks will be available for purchase. \n The theme for this quarter is still to be determined!\nDo you have field of interest that you would like to learn more about? Send your suggestions to 100women@cfso.net. \nRSVPs will open up closer to the event date. \nIf you need to make your one-time commitment fee and/or your quarterly donations you can do that here. \nIf you have any questions please email 100women@cfso.net. \nPlease note member RSVPs are open now and guest spots will open closer to the event date based on capacity.
URL:https://www.cfso.net/event/100-women-who-care-april-8-penticton-golf-and-country-club-1/
LOCATION:OROLO Restaurant + Cocktail Bar\, 361 Martin St\, Penticton\, BC\, V2A 5K6\, Canada
CATEGORIES:100 Women Who Care
ORGANIZER;CN="CFSOS":MAILTO:info@cfso.net
END:VEVENT
END:VCALENDAR