BEGIN:VCALENDAR
VERSION:2.0
PRODID:-//Community Foundation of the South Okanagan Similkameen - ECPv6.15.19//NONSGML v1.0//EN
CALSCALE:GREGORIAN
METHOD:PUBLISH
X-WR-CALNAME:Community Foundation of the South Okanagan Similkameen
X-ORIGINAL-URL:https://www.cfso.net
X-WR-CALDESC:Events for Community Foundation of the South Okanagan Similkameen
REFRESH-INTERVAL;VALUE=DURATION:PT1H
X-Robots-Tag:noindex
X-PUBLISHED-TTL:PT1H
BEGIN:VTIMEZONE
TZID:America/Vancouver
BEGIN:DAYLIGHT
TZOFFSETFROM:-0800
TZOFFSETTO:-0700
TZNAME:PDT
DTSTART:20230312T100000
END:DAYLIGHT
BEGIN:STANDARD
TZOFFSETFROM:-0700
TZOFFSETTO:-0800
TZNAME:PST
DTSTART:20231105T090000
END:STANDARD
BEGIN:DAYLIGHT
TZOFFSETFROM:-0800
TZOFFSETTO:-0700
TZNAME:PDT
DTSTART:20240310T100000
END:DAYLIGHT
BEGIN:STANDARD
TZOFFSETFROM:-0700
TZOFFSETTO:-0800
TZNAME:PST
DTSTART:20241103T090000
END:STANDARD
BEGIN:DAYLIGHT
TZOFFSETFROM:-0800
TZOFFSETTO:-0700
TZNAME:PDT
DTSTART:20250309T100000
END:DAYLIGHT
BEGIN:STANDARD
TZOFFSETFROM:-0700
TZOFFSETTO:-0800
TZNAME:PST
DTSTART:20251102T090000
END:STANDARD
END:VTIMEZONE
BEGIN:VEVENT
DTSTART;TZID=America/Vancouver:20241017T170000
DTEND;TZID=America/Vancouver:20241017T193000
DTSTAMP:20260422T062434
CREATED:20240726T180656Z
LAST-MODIFIED:20240909T203235Z
UID:11272-1729184400-1729193400@www.cfso.net
SUMMARY:Screening and Discussion on the documentary\, “Uncharitable” – Princeton
DESCRIPTION:Join us on October 17th at Princeton & District Museum and Archives for a thought-provoking evening of film\, conversations and community. The event will begin with a screening of “UnCharitable” by Dan Pallotta\, followed by facilitated panel discussion. “UnCharitable” challenges conventional wisdom about charitable giving\, urging viewers to rethink how society perceives and supports nonprofits. \nThis event is part of our broader Vital Conversations series which aims to facilitate impactful discussions across the region\, driving local change. \nThe event is open to donors\, charities\, businesses\, community builders and builders. Don’t miss this opportunity to engage in a meaningful dialogue that can shape the future of our community. \nSpace is limited – RSVP today! This is a Free event. \nWe will be hosting more Vital Conversation events across the region throughout the year. Stay connected for more details. \n  \nIf you have any questions about the event or are interested in sponsoring an upcoming event\, please contact Yuki Ihara or Kim English.
URL:https://www.cfso.net/event/screening-and-discussion-on-the-documentary-uncharitable-osoyoos-2-2/
LOCATION:Princeton & District Museum and Archives\, 167 Vermillion Avenue\, Princeton\, BC\, V0X 1W0\, Canada
CATEGORIES:Vital Conversations
ATTACH;FMTTYPE=image/png:https://www.cfso.net/wp-content/uploads/2024/07/poster-PRINCETON-UnCharitable-CFSOS-1.png
ORGANIZER;CN="Kim English":MAILTO:kimenglish@cfso.net
END:VEVENT
BEGIN:VEVENT
DTSTART;TZID=America/Vancouver:20241017T170000
DTEND;TZID=America/Vancouver:20241017T193000
DTSTAMP:20260422T062434
CREATED:20240726T180656Z
LAST-MODIFIED:20240726T180656Z
UID:13699-1729184400-1729193400@www.cfso.net
SUMMARY:Screening and Discussion on the documentary\, “Uncharitable” – Princeton
DESCRIPTION:Join us on October 17th at Princeton & District Museum and Archives for a thought-provoking evening of film\, conversations and community. The event will begin with a screening of “UnCharitable” by Dan Pallotta\, followed by facilitated panel discussion. “UnCharitable” challenges conventional wisdom about charitable giving\, urging viewers to rethink how society perceives and supports nonprofits. \nThis event is part of our broader Vital Conversations series which aims to facilitate impactful discussions across the region\, driving local change. \nThe event is open to donors\, charities\, businesses\, community builders and builders. Don’t miss this opportunity to engage in a meaningful dialogue that can shape the future of our community. \nSpace is limited – RSVP today! This is a Free event. \nWe will be hosting more Vital Conversation events across the region throughout the year. Stay connected for more details. \n  \nIf you have any questions about the event or are interested in sponsoring an upcoming event\, please contact Yuki Ihara or Kim English.
URL:https://www.cfso.net/event/screening-and-discussion-on-the-documentary-uncharitable-osoyoos-2-2-2/
LOCATION:Princeton & District Museum and Archives\, 167 Vermillion Avenue\, Princeton\, BC\, V0X 1W0\, Canada
CATEGORIES:Vital Conversations
ATTACH;FMTTYPE=image/png:https://www.cfso.net/wp-content/uploads/2024/07/poster-PRINCETON-UnCharitable-CFSOS-1.png
ORGANIZER;CN="Kim English":MAILTO:kimenglish@cfso.net
END:VEVENT
END:VCALENDAR